BEGIN:VCALENDAR
VERSION:2.0
PRODID:-//Capital Title of Texas, LLC. - ECPv6.15.20//NONSGML v1.0//EN
CALSCALE:GREGORIAN
METHOD:PUBLISH
X-WR-CALNAME:Capital Title of Texas, LLC.
X-ORIGINAL-URL:https://ctot.com
X-WR-CALDESC:Events for Capital Title of Texas, LLC.
REFRESH-INTERVAL;VALUE=DURATION:PT1H
X-Robots-Tag:noindex
X-PUBLISHED-TTL:PT1H
BEGIN:VTIMEZONE
TZID:America/Chicago
BEGIN:DAYLIGHT
TZOFFSETFROM:-0600
TZOFFSETTO:-0500
TZNAME:CDT
DTSTART:20190310T080000
END:DAYLIGHT
BEGIN:STANDARD
TZOFFSETFROM:-0500
TZOFFSETTO:-0600
TZNAME:CST
DTSTART:20191103T070000
END:STANDARD
BEGIN:DAYLIGHT
TZOFFSETFROM:-0600
TZOFFSETTO:-0500
TZNAME:CDT
DTSTART:20200308T080000
END:DAYLIGHT
BEGIN:STANDARD
TZOFFSETFROM:-0500
TZOFFSETTO:-0600
TZNAME:CST
DTSTART:20201101T070000
END:STANDARD
BEGIN:DAYLIGHT
TZOFFSETFROM:-0600
TZOFFSETTO:-0500
TZNAME:CDT
DTSTART:20210314T080000
END:DAYLIGHT
BEGIN:STANDARD
TZOFFSETFROM:-0500
TZOFFSETTO:-0600
TZNAME:CST
DTSTART:20211107T070000
END:STANDARD
END:VTIMEZONE
BEGIN:VEVENT
DTSTART;TZID=America/Chicago:20200430T100000
DTEND;TZID=America/Chicago:20200430T110000
DTSTAMP:20260424T120711
CREATED:20200324T215015Z
LAST-MODIFIED:20200417T212718Z
UID:12656-1588240800-1588244400@ctot.com
SUMMARY:Online CE Opportunity- Fuel Your Facebook Page
DESCRIPTION:1 hour online CE class- Fuel Your Facebook Page\nCourse #34891 | Provider #9847 \n$10 for 1 hour CE credit \nLearn how to optimize your Real Estate Facebook Page!\n  \nThis online class is being offered at two different times for your convenience:\n 1. Thursday\, April 30th\, 2020 from 10:00 AM – 11:00 AM\nTo register for this morning session click HERE\n2. Thursday\, April 30th\, 2020 from 2:00 PM – 3:00 PM\nTo register for this afternoon session click HERE\n\nAfter registering you will receive a confirmation email containing information about joining the webinar.
URL:https://ctot.com/event/online-ce-opportunity-fuel-your-facebook-page/2020-04-30/
LOCATION:Online
CATEGORIES:All Regions,Austin,San Antonio
ATTACH;FMTTYPE=image/png:https://ctot.com/wp-content/uploads/2020/03/Fuel-Your-Facebook-Page-4_30_2020.png
ORGANIZER;CN="Cindy Yates":MAILTO:cyates@ctottesting.wpengine.com
END:VEVENT
BEGIN:VEVENT
DTSTART;TZID=America/Chicago:20200430T100000
DTEND;TZID=America/Chicago:20200430T110000
DTSTAMP:20260424T120711
CREATED:20200324T215015Z
LAST-MODIFIED:20200324T215015Z
UID:24865-1588240800-1588244400@ctot.com
SUMMARY:Online CE Opportunity- Fuel Your Facebook Page
DESCRIPTION:1 hour online CE class- Fuel Your Facebook Page\nCourse #34891 | Provider #9847 \n$10 for 1 hour CE credit \nLearn how to optimize your Real Estate Facebook Page!\n  \nThis online class is being offered at two different times for your convenience:\n 1. Thursday\, April 30th\, 2020 from 10:00 AM – 11:00 AM\nTo register for this morning session click HERE\n2. Thursday\, April 30th\, 2020 from 2:00 PM – 3:00 PM\nTo register for this afternoon session click HERE\n\nAfter registering you will receive a confirmation email containing information about joining the webinar.
URL:https://ctot.com/event/online-ce-opportunity-fuel-your-facebook-page-2/2020-04-30/
LOCATION:Online
CATEGORIES:All Regions,Austin,San Antonio
ATTACH;FMTTYPE=image/png:https://ctot.com/wp-content/uploads/2020/03/Fuel-Your-Facebook-Page-4_30_2020.png
ORGANIZER;CN="Cindy Yates":MAILTO:cyates@ctottesting.wpengine.com
END:VEVENT
END:VCALENDAR