BEGIN:VCALENDAR
VERSION:2.0
PRODID:-//Capital Title of Texas, LLC. - ECPv6.15.20//NONSGML v1.0//EN
CALSCALE:GREGORIAN
METHOD:PUBLISH
X-WR-CALNAME:Capital Title of Texas, LLC.
X-ORIGINAL-URL:https://ctot.com
X-WR-CALDESC:Events for Capital Title of Texas, LLC.
REFRESH-INTERVAL;VALUE=DURATION:PT1H
X-Robots-Tag:noindex
X-PUBLISHED-TTL:PT1H
BEGIN:VTIMEZONE
TZID:America/Chicago
BEGIN:DAYLIGHT
TZOFFSETFROM:-0600
TZOFFSETTO:-0500
TZNAME:CDT
DTSTART:20220313T080000
END:DAYLIGHT
BEGIN:STANDARD
TZOFFSETFROM:-0500
TZOFFSETTO:-0600
TZNAME:CST
DTSTART:20221106T070000
END:STANDARD
BEGIN:DAYLIGHT
TZOFFSETFROM:-0600
TZOFFSETTO:-0500
TZNAME:CDT
DTSTART:20230312T080000
END:DAYLIGHT
BEGIN:STANDARD
TZOFFSETFROM:-0500
TZOFFSETTO:-0600
TZNAME:CST
DTSTART:20231105T070000
END:STANDARD
BEGIN:DAYLIGHT
TZOFFSETFROM:-0600
TZOFFSETTO:-0500
TZNAME:CDT
DTSTART:20240310T080000
END:DAYLIGHT
BEGIN:STANDARD
TZOFFSETFROM:-0500
TZOFFSETTO:-0600
TZNAME:CST
DTSTART:20241103T070000
END:STANDARD
END:VTIMEZONE
BEGIN:VEVENT
DTSTART;TZID=America/Chicago:20230510T100000
DTEND;TZID=America/Chicago:20230510T110000
DTSTAMP:20260424T115522
CREATED:20230425T153252Z
LAST-MODIFIED:20230425T153252Z
UID:21346-1683712800-1683716400@ctot.com
SUMMARY:Closing Short Sales
DESCRIPTION:Closing Short Sales  Course #: 44979\nProvider Name: Capital Title of Texas\, LLC  Provider #: 9847\nInstructor Name: Tiffany Hanzik McAllister\nCE Hours: 1 Hr.   Cost: $10.00\nRSVP AT WWW.LPEDUCATESME.COM
URL:https://ctot.com/event/closing-short-sales-2/
CATEGORIES:All Regions,Dallas Ft. Worth
ATTACH;FMTTYPE=image/png:https://ctot.com/wp-content/uploads/2023/04/5.10.23-CLOSING-SHORT-SALES.png
ORGANIZER;CN="Lauren Pulido":MAILTO:lpulido@ctottesting.wpengine.com
END:VEVENT
BEGIN:VEVENT
DTSTART;TZID=America/Chicago:20230510T100000
DTEND;TZID=America/Chicago:20230510T110000
DTSTAMP:20260424T115522
CREATED:20230425T153252Z
LAST-MODIFIED:20230425T153252Z
UID:25212-1683712800-1683716400@ctot.com
SUMMARY:Closing Short Sales
DESCRIPTION:Closing Short Sales  Course #: 44979\nProvider Name: Capital Title of Texas\, LLC  Provider #: 9847\nInstructor Name: Tiffany Hanzik McAllister\nCE Hours: 1 Hr.   Cost: $10.00\nRSVP AT WWW.LPEDUCATESME.COM
URL:https://ctot.com/event/closing-short-sales-2-2/
CATEGORIES:All Regions,Dallas Ft. Worth
ATTACH;FMTTYPE=image/png:https://ctot.com/wp-content/uploads/2023/04/5.10.23-CLOSING-SHORT-SALES.png
ORGANIZER;CN="Lauren Pulido":MAILTO:lpulido@ctottesting.wpengine.com
END:VEVENT
BEGIN:VEVENT
DTSTART;TZID=America/Chicago:20230510T100000
DTEND;TZID=America/Chicago:20230510T110000
DTSTAMP:20260424T115522
CREATED:20230502T202147Z
LAST-MODIFIED:20230502T202711Z
UID:21360-1683712800-1683716400@ctot.com
SUMMARY:Who\, What\, When & Where Of Marital Property & Divorce
DESCRIPTION:WHEN: Wednesday May 10th\, 2023 10:00AM- 11:00AM \nWHERE: Capital Title Rogers Ranch \n2707 N Loop 1604 W Ste 103\, San Antonio\, Tx 78258 \n 
URL:https://ctot.com/event/21360/
CATEGORIES:San Antonio
ATTACH;FMTTYPE=image/jpeg:https://ctot.com/wp-content/uploads/2023/05/CTOT-Who-What-When-Where-Marital-Property-Divorce-VJaime-FValdez-041923-scaled.jpg
END:VEVENT
BEGIN:VEVENT
DTSTART;TZID=America/Chicago:20230510T100000
DTEND;TZID=America/Chicago:20230510T110000
DTSTAMP:20260424T115522
CREATED:20230502T202147Z
LAST-MODIFIED:20230502T202147Z
UID:25217-1683712800-1683716400@ctot.com
SUMMARY:Who\, What\, When & Where Of Marital Property & Divorce
DESCRIPTION:WHEN: Wednesday May 10th\, 2023 10:00AM- 11:00AM \nWHERE: Capital Title Rogers Ranch \n2707 N Loop 1604 W Ste 103\, San Antonio\, Tx 78258 \n 
URL:https://ctot.com/event/21360-2/
CATEGORIES:San Antonio
ATTACH;FMTTYPE=image/jpeg:https://ctot.com/wp-content/uploads/2023/05/CTOT-Who-What-When-Where-Marital-Property-Divorce-VJaime-FValdez-041923-scaled.jpg
END:VEVENT
BEGIN:VEVENT
DTSTART;TZID=America/Chicago:20230510T100000
DTEND;TZID=America/Chicago:20230510T110000
DTSTAMP:20260424T115522
CREATED:20230508T230447Z
LAST-MODIFIED:20230509T200815Z
UID:21385-1683712800-1683716400@ctot.com
SUMMARY:Warning Signs In The Closing Process
DESCRIPTION:Warning Signs In The Closing Process – Course 42136 – CE Hour: 1 Hr.\nWednesday\, May 10th – 10 to 11 am\nCost: $10.00\nInstructor Name:  Allison Mayo
URL:https://ctot.com/event/closing-pitfalls/
LOCATION:Capital Title of Texas – 8917 Louetta Road\, Ste. 310\, Spring\, TX 77379\, 8917 Louetta Road\, Suite 310\, Spring\, TX\, 77379\, United States
CATEGORIES:All Regions,Golden Triangle,Houston
ATTACH;FMTTYPE=image/png:https://ctot.com/wp-content/uploads/2023/05/Warning-Signs-Revised.png
ORGANIZER;CN="Allison Mayo":MAILTO:teamallison@ctottesting.wpengine.com
END:VEVENT
BEGIN:VEVENT
DTSTART;TZID=America/Chicago:20230510T100000
DTEND;TZID=America/Chicago:20230510T110000
DTSTAMP:20260424T115522
CREATED:20230508T230447Z
LAST-MODIFIED:20230508T230447Z
UID:25221-1683712800-1683716400@ctot.com
SUMMARY:Warning Signs In The Closing Process
DESCRIPTION:Warning Signs In The Closing Process – Course 42136 – CE Hour: 1 Hr.\nWednesday\, May 10th – 10 to 11 am\nCost: $10.00\nInstructor Name:  Allison Mayo
URL:https://ctot.com/event/closing-pitfalls-4/
LOCATION:Capital Title of Texas – 8917 Louetta Road\, Ste. 310\, Spring\, TX 77379\, 8917 Louetta Road\, Suite 310\, Spring\, TX\, 77379\, United States
CATEGORIES:All Regions,Golden Triangle,Houston
ATTACH;FMTTYPE=image/png:https://ctot.com/wp-content/uploads/2023/05/Warning-Signs-Revised.png
ORGANIZER;CN="Allison Mayo":MAILTO:teamallison@ctottesting.wpengine.com
END:VEVENT
BEGIN:VEVENT
DTSTART;TZID=America/Chicago:20230510T110000
DTEND;TZID=America/Chicago:20230510T120000
DTSTAMP:20260424T115522
CREATED:20230509T202844Z
LAST-MODIFIED:20230509T202844Z
UID:21388-1683716400-1683720000@ctot.com
SUMMARY:Surveys: A Snapshot Into The Dirt
DESCRIPTION:Surveys: A Snapshot Into The Dirt – Course 42521 – 1 CE Credit Hour\nWednesday\, May 10 – 11:00 to 12:00 pm\nInstructor: Allison Mayo
URL:https://ctot.com/event/surveys-a-snapshot-into-the-dirt/
LOCATION:Capital Title of Texas – 8917 Louetta Road\, Ste. 310\, Spring\, TX 77379\, 8917 Louetta Road\, Suite 310\, Spring\, TX\, 77379\, United States
CATEGORIES:All Regions,Golden Triangle,Houston
ATTACH;FMTTYPE=image/png:https://ctot.com/wp-content/uploads/2023/05/Survey-CE.png
ORGANIZER;CN="Allison Mayo":MAILTO:teamallison@ctottesting.wpengine.com
END:VEVENT
BEGIN:VEVENT
DTSTART;TZID=America/Chicago:20230510T110000
DTEND;TZID=America/Chicago:20230510T120000
DTSTAMP:20260424T115522
CREATED:20230509T202844Z
LAST-MODIFIED:20230509T202844Z
UID:25222-1683716400-1683720000@ctot.com
SUMMARY:Surveys: A Snapshot Into The Dirt
DESCRIPTION:Surveys: A Snapshot Into The Dirt – Course 42521 – 1 CE Credit Hour\nWednesday\, May 10 – 11:00 to 12:00 pm\nInstructor: Allison Mayo
URL:https://ctot.com/event/surveys-a-snapshot-into-the-dirt-2/
LOCATION:Capital Title of Texas – 8917 Louetta Road\, Ste. 310\, Spring\, TX 77379\, 8917 Louetta Road\, Suite 310\, Spring\, TX\, 77379\, United States
CATEGORIES:All Regions,Golden Triangle,Houston
ATTACH;FMTTYPE=image/png:https://ctot.com/wp-content/uploads/2023/05/Survey-CE.png
ORGANIZER;CN="Allison Mayo":MAILTO:teamallison@ctottesting.wpengine.com
END:VEVENT
END:VCALENDAR