BEGIN:VCALENDAR
VERSION:2.0
PRODID:-//Capital Title of Texas, LLC. - ECPv6.15.20//NONSGML v1.0//EN
CALSCALE:GREGORIAN
METHOD:PUBLISH
X-ORIGINAL-URL:https://ctot.com
X-WR-CALDESC:Events for Capital Title of Texas, LLC.
REFRESH-INTERVAL;VALUE=DURATION:PT1H
X-Robots-Tag:noindex
X-PUBLISHED-TTL:PT1H
BEGIN:VTIMEZONE
TZID:America/Chicago
BEGIN:DAYLIGHT
TZOFFSETFROM:-0600
TZOFFSETTO:-0500
TZNAME:CDT
DTSTART:20230312T080000
END:DAYLIGHT
BEGIN:STANDARD
TZOFFSETFROM:-0500
TZOFFSETTO:-0600
TZNAME:CST
DTSTART:20231105T070000
END:STANDARD
BEGIN:DAYLIGHT
TZOFFSETFROM:-0600
TZOFFSETTO:-0500
TZNAME:CDT
DTSTART:20240310T080000
END:DAYLIGHT
BEGIN:STANDARD
TZOFFSETFROM:-0500
TZOFFSETTO:-0600
TZNAME:CST
DTSTART:20241103T070000
END:STANDARD
BEGIN:DAYLIGHT
TZOFFSETFROM:-0600
TZOFFSETTO:-0500
TZNAME:CDT
DTSTART:20250309T080000
END:DAYLIGHT
BEGIN:STANDARD
TZOFFSETFROM:-0500
TZOFFSETTO:-0600
TZNAME:CST
DTSTART:20251102T070000
END:STANDARD
END:VTIMEZONE
BEGIN:VEVENT
DTSTART;TZID=America/Chicago:20241030T093000
DTEND;TZID=America/Chicago:20241030T113000
DTSTAMP:20260422T135510
CREATED:20241003T183148Z
LAST-MODIFIED:20241003T183148Z
UID:24115-1730280600-1730287800@ctot.com
SUMMARY:The W's of Real Estate - What Do I Do Now & Who What When Where of Property & Divorce
DESCRIPTION:Join us for\n\nTHE W’s of REAL ESTATE:\nWhat Do I Do Now? Wills\, Probate & Guardianships\, Course 47527\, 1 CE Hr &\nWho\, What\, When & Where of Marital Property & Divorce? Course 47388\, 1 CE Hr\nProvider 9847\nWednesday\, October 30th – 9:30 to 11:30 AM\nSee image for full course details.\n \n  \n  \n  \n  \n 
URL:https://ctot.com/event/the-ws-of-real-estate-what-do-i-do-now-who-what-when-where-of-property-divorce/
LOCATION:GFWAR Auditorium\, 2650 Parkview Dr.\, Fort Worth\, TX\, 76102\, United States
CATEGORIES:All Regions,Dallas Ft. Worth
ATTACH;FMTTYPE=image/png:https://ctot.com/wp-content/uploads/2024/10/GMWAR-2-hr-CE-10-30-24-2.png
ORGANIZER;CN="Sparkles Belt":MAILTO:sbelt@ctottesting.wpengine.com
END:VEVENT
END:VCALENDAR