BEGIN:VCALENDAR
VERSION:2.0
PRODID:-//Capital Title of Texas, LLC. - ECPv6.15.20//NONSGML v1.0//EN
CALSCALE:GREGORIAN
METHOD:PUBLISH
X-WR-CALNAME:Capital Title of Texas, LLC.
X-ORIGINAL-URL:https://ctot.com
X-WR-CALDESC:Events for Capital Title of Texas, LLC.
REFRESH-INTERVAL;VALUE=DURATION:PT1H
X-Robots-Tag:noindex
X-PUBLISHED-TTL:PT1H
BEGIN:VTIMEZONE
TZID:America/Chicago
BEGIN:DAYLIGHT
TZOFFSETFROM:-0600
TZOFFSETTO:-0500
TZNAME:CDT
DTSTART:20230312T080000
END:DAYLIGHT
BEGIN:STANDARD
TZOFFSETFROM:-0500
TZOFFSETTO:-0600
TZNAME:CST
DTSTART:20231105T070000
END:STANDARD
BEGIN:DAYLIGHT
TZOFFSETFROM:-0600
TZOFFSETTO:-0500
TZNAME:CDT
DTSTART:20240310T080000
END:DAYLIGHT
BEGIN:STANDARD
TZOFFSETFROM:-0500
TZOFFSETTO:-0600
TZNAME:CST
DTSTART:20241103T070000
END:STANDARD
BEGIN:DAYLIGHT
TZOFFSETFROM:-0600
TZOFFSETTO:-0500
TZNAME:CDT
DTSTART:20250309T080000
END:DAYLIGHT
BEGIN:STANDARD
TZOFFSETFROM:-0500
TZOFFSETTO:-0600
TZNAME:CST
DTSTART:20251102T070000
END:STANDARD
END:VTIMEZONE
BEGIN:VEVENT
DTSTART;TZID=America/Chicago:20241203T100000
DTEND;TZID=America/Chicago:20241203T110000
DTSTAMP:20260424T180441
CREATED:20241123T003812Z
LAST-MODIFIED:20241123T003812Z
UID:25382-1733220000-1733223600@ctot.com
SUMMARY:Join us for Online Legal CE (1hr): TREC Contract Changes and Addenda - Contract Changes Coming in 2025
DESCRIPTION:TREC Contract Changes and Addenda – Contract Changes Coming in 2025\nSeamlessly online for your convenience.\nJoin us for an in-depth session on the latest contract form changes coming in 2025\, as outlined by the Texas Real Estate Commission (TREC). Gain valuable insights into compliance\, negotiation strategies\, and how these updates impact your business. Perfect for agents seeking to stay informed and enhance their expertise\, this class ensures you’re ready for the evolving real estate landscape. Don’t miss this opportunity to grow your knowledge and elevate your practice!\nCOURSE 46440  |  CREDIT HOURS 1  |  COST $10\nCLICK HERE FOR PAYMENT LINK (for those seeking ce credit)\nREGISTER NOW – CLICK HERE AND STAY AHEAD OF THE CURVE!\n \n  \n 
URL:https://ctot.com/event/join-us-for-online-legal-ce-1hr-trec-contract-changes-and-addenda-contract-changes-coming-in-2025-2/
LOCATION:Online Only
CATEGORIES:All Regions,Austin,Central Texas,Coastal Bend,Dallas Ft. Worth,Golden Triangle,Houston,Northeast Texas,Rio Grande Valley,San Antonio
ATTACH;FMTTYPE=image/png:https://ctot.com/wp-content/uploads/2024/11/TREC-Changes-12032024-Calendar.png
ORGANIZER;CN="Tiffany Hanzik McAllister":MAILTO:thanzik@ctot.com
END:VEVENT
END:VCALENDAR