BEGIN:VCALENDAR
VERSION:2.0
PRODID:-//Capital Title of Texas, LLC. - ECPv6.15.20//NONSGML v1.0//EN
CALSCALE:GREGORIAN
METHOD:PUBLISH
X-ORIGINAL-URL:https://ctot.com
X-WR-CALDESC:Events for Capital Title of Texas, LLC.
REFRESH-INTERVAL;VALUE=DURATION:PT1H
X-Robots-Tag:noindex
X-PUBLISHED-TTL:PT1H
BEGIN:VTIMEZONE
TZID:America/Chicago
BEGIN:DAYLIGHT
TZOFFSETFROM:-0600
TZOFFSETTO:-0500
TZNAME:CDT
DTSTART:20240310T080000
END:DAYLIGHT
BEGIN:STANDARD
TZOFFSETFROM:-0500
TZOFFSETTO:-0600
TZNAME:CST
DTSTART:20241103T070000
END:STANDARD
BEGIN:DAYLIGHT
TZOFFSETFROM:-0600
TZOFFSETTO:-0500
TZNAME:CDT
DTSTART:20250309T080000
END:DAYLIGHT
BEGIN:STANDARD
TZOFFSETFROM:-0500
TZOFFSETTO:-0600
TZNAME:CST
DTSTART:20251102T070000
END:STANDARD
BEGIN:DAYLIGHT
TZOFFSETFROM:-0600
TZOFFSETTO:-0500
TZNAME:CDT
DTSTART:20260308T080000
END:DAYLIGHT
BEGIN:STANDARD
TZOFFSETFROM:-0500
TZOFFSETTO:-0600
TZNAME:CST
DTSTART:20261101T070000
END:STANDARD
END:VTIMEZONE
BEGIN:VEVENT
DTSTART;TZID=America/Chicago:20250320T130000
DTEND;TZID=America/Chicago:20250320T150000
DTSTAMP:20260420T201938
CREATED:20250313T182244Z
LAST-MODIFIED:20250313T182244Z
UID:26135-1742475600-1742482800@ctot.com
SUMMARY:CE: 45 Combined Outs in the 1-4 family contract and addenda. What?
DESCRIPTION:Join us for\n\n45 Combined Outs in the 1-4 family contract and addenda. What?\nSee image for full course details.\nClick HERE to REGISTER\nReach out to your Capital Title Partner with any questions.\n \n 
URL:https://ctot.com/event/ce-45-combined-outs-in-the-1-4-family-contract-and-addenda-what-3/
LOCATION:Capital Title Southlake and Zoom\, 1150 N. Carroll Ave.\, Southlake\, TX\, 76092\, United States
CATEGORIES:All Regions,Dallas Ft. Worth
ATTACH;FMTTYPE=image/png:https://ctot.com/wp-content/uploads/2025/03/45-Combined-Outs-3.20.25.png
END:VEVENT
END:VCALENDAR