BEGIN:VCALENDAR
VERSION:2.0
PRODID:-//Capital Title of Texas, LLC. - ECPv6.15.20//NONSGML v1.0//EN
CALSCALE:GREGORIAN
METHOD:PUBLISH
X-ORIGINAL-URL:https://ctot.com
X-WR-CALDESC:Events for Capital Title of Texas, LLC.
REFRESH-INTERVAL;VALUE=DURATION:PT1H
X-Robots-Tag:noindex
X-PUBLISHED-TTL:PT1H
BEGIN:VTIMEZONE
TZID:America/Chicago
BEGIN:DAYLIGHT
TZOFFSETFROM:-0600
TZOFFSETTO:-0500
TZNAME:CDT
DTSTART:20240310T080000
END:DAYLIGHT
BEGIN:STANDARD
TZOFFSETFROM:-0500
TZOFFSETTO:-0600
TZNAME:CST
DTSTART:20241103T070000
END:STANDARD
BEGIN:DAYLIGHT
TZOFFSETFROM:-0600
TZOFFSETTO:-0500
TZNAME:CDT
DTSTART:20250309T080000
END:DAYLIGHT
BEGIN:STANDARD
TZOFFSETFROM:-0500
TZOFFSETTO:-0600
TZNAME:CST
DTSTART:20251102T070000
END:STANDARD
BEGIN:DAYLIGHT
TZOFFSETFROM:-0600
TZOFFSETTO:-0500
TZNAME:CDT
DTSTART:20260308T080000
END:DAYLIGHT
BEGIN:STANDARD
TZOFFSETFROM:-0500
TZOFFSETTO:-0600
TZNAME:CST
DTSTART:20261101T070000
END:STANDARD
END:VTIMEZONE
BEGIN:VEVENT
DTSTART;TZID=America/Chicago:20251001T130000
DTEND;TZID=America/Chicago:20251001T150000
DTSTAMP:20260424T224150
CREATED:20250819T140346Z
LAST-MODIFIED:20250819T140623Z
UID:27840-1759323600-1759330800@ctot.com
SUMMARY:Part 1 - Buying&Selling and Inspection Reports
DESCRIPTION:Join us!\nLEARN TO NAVIGATE INSPECTIONS LIKE A PRO!\nInspection Mastery Series – Part 1\nBuying & Selling and Inspection Reports\nWEDNESDAY\, OCTOBER 1ST\, 1:00 PM TO 3:00 PM\nCE COURSE 50939 & 50949 | PROVIDER #10032\n2 HR CE | $20.00 PER PERSON\nSee course flyer for full details\n \n  \n  \nHAVE QUESTIONS? \nMARTY WILLS MWILLS@CTOT.COM | 254-717-4810\nMELISSA LEON MLEON@CTOT.COM | 817-301-4311\n  \n  \n  \n 
URL:https://ctot.com/event/intro-to-mls-touch-2/
LOCATION:Capital Title Camp Bowie\, 3623 Camp Bowie Blvd.\, Fort Worth\, 76107\, United States
CATEGORIES:All Regions,Dallas Ft. Worth
ATTACH;FMTTYPE=image/png:https://ctot.com/wp-content/uploads/2025/08/CTOT-Inspection-Mastery-Series-Part-1.png
ORGANIZER;CN="Marty Wills":MAILTO:mwills@ctot.com
END:VEVENT
END:VCALENDAR