BEGIN:VCALENDAR
VERSION:2.0
PRODID:-//Capital Title of Texas, LLC. - ECPv6.15.20//NONSGML v1.0//EN
CALSCALE:GREGORIAN
METHOD:PUBLISH
X-WR-CALNAME:Capital Title of Texas, LLC.
X-ORIGINAL-URL:https://ctot.com
X-WR-CALDESC:Events for Capital Title of Texas, LLC.
REFRESH-INTERVAL;VALUE=DURATION:PT1H
X-Robots-Tag:noindex
X-PUBLISHED-TTL:PT1H
BEGIN:VTIMEZONE
TZID:UTC
BEGIN:STANDARD
TZOFFSETFROM:+0000
TZOFFSETTO:+0000
TZNAME:UTC
DTSTART:20180101T000000
END:STANDARD
END:VTIMEZONE
BEGIN:VEVENT
DTSTART;TZID=UTC:20190911T130000
DTEND;TZID=UTC:20190911T150000
DTSTAMP:20260422T235055
CREATED:20190906T215035Z
LAST-MODIFIED:20190907T023909Z
UID:4926-1568206800-1568214000@ctot.com
SUMMARY:How To Organize Your Business
DESCRIPTION:[vc_row][vc_column width=”1/2″][vc_btn title=”Back to Austin Events” style=”flat” shape=”square” color=”danger” align=”left” i_icon_fontawesome=”fa fa-angle-left” add_icon=”true” el_class=”back-button-calendar” link=”url:%2Flocations%2Faustin%2Ftools-resources%2Fevents-in-austin%2F|||”][vc_column_text] \nGetting your CRM (Client Relationship Manager) in shape so it can do all the heavy lifting for you!\n===================== \nTAUGHT BY : KATIE COLLINS \n-Katie Thornell Collins is a native Austinite\, licensed realtor and Keller Williams Maps Coach™. In 2013 Tim Heyl convinced her to join the real estate industry and become the sole listing agent for the Heyl Group. In her first year she sold 144 listings and closed 22 million in volume. She continued to work as the listing agent until she transitioned to Tim’s title company\, Mint Title\, where she worked as a business development executive. After starting her family in 2017\, she transitioned into coaching agents enrolled in the KW Maps™Group ISA Program. Katie is dedicated to helping agents grow their real estate business by sharing her experience in class. \n**This course is intended for real estate professionals only. **[/vc_column_text][/vc_column][vc_column width=”1/2″][vc_single_image source=”featured_image” img_size=”full” el_class=”event-image”][/vc_column][/vc_row]
URL:https://ctot.com/event/how-to-organize-your-business/
LOCATION:Capital Title Westlake\, 3801 Bee Caves Road\, Suite 110\, Austin\, TX\, 78746\, United States
CATEGORIES:All Regions,Austin
ATTACH;FMTTYPE=image/jpeg:https://ctot.com/wp-content/uploads/2019/09/How_to_Organize_Your_Business_Class_9_11_2019.jpg
ORGANIZER;CN="Amy Martin":MAILTO:AMartin@ctottesting.wpengine.com
GEO:30.2797027;-97.8080745
X-APPLE-STRUCTURED-LOCATION;VALUE=URI;X-ADDRESS=Capital Title Westlake 3801 Bee Caves Road Suite 110 Austin TX 78746 United States;X-APPLE-RADIUS=500;X-TITLE=3801 Bee Caves Road\, Suite 110:geo:-97.8080745,30.2797027
END:VEVENT
BEGIN:VEVENT
DTSTART;TZID=UTC:20190911T130000
DTEND;TZID=UTC:20190911T150000
DTSTAMP:20260422T235055
CREATED:20190906T215035Z
LAST-MODIFIED:20190906T215035Z
UID:24785-1568206800-1568214000@ctot.com
SUMMARY:How To Organize Your Business
DESCRIPTION:[vc_row][vc_column width=”1/2″][vc_btn title=”Back to Austin Events” style=”flat” shape=”square” color=”danger” align=”left” i_icon_fontawesome=”fa fa-angle-left” add_icon=”true” el_class=”back-button-calendar” link=”url:%2Flocations%2Faustin%2Ftools-resources%2Fevents-in-austin%2F|||”][vc_column_text] \nGetting your CRM (Client Relationship Manager) in shape so it can do all the heavy lifting for you!\n===================== \nTAUGHT BY : KATIE COLLINS \n-Katie Thornell Collins is a native Austinite\, licensed realtor and Keller Williams Maps Coach™. In 2013 Tim Heyl convinced her to join the real estate industry and become the sole listing agent for the Heyl Group. In her first year she sold 144 listings and closed 22 million in volume. She continued to work as the listing agent until she transitioned to Tim’s title company\, Mint Title\, where she worked as a business development executive. After starting her family in 2017\, she transitioned into coaching agents enrolled in the KW Maps™Group ISA Program. Katie is dedicated to helping agents grow their real estate business by sharing her experience in class. \n**This course is intended for real estate professionals only. **[/vc_column_text][/vc_column][vc_column width=”1/2″][vc_single_image source=”featured_image” img_size=”full” el_class=”event-image”][/vc_column][/vc_row]
URL:https://ctot.com/event/how-to-organize-your-business-3/
LOCATION:Capital Title Westlake\, 3801 Bee Caves Road\, Suite 110\, Austin\, TX\, 78746\, United States
CATEGORIES:All Regions,Austin
ATTACH;FMTTYPE=image/jpeg:https://ctot.com/wp-content/uploads/2019/09/How_to_Organize_Your_Business_Class_9_11_2019.jpg
ORGANIZER;CN="Amy Martin":MAILTO:AMartin@ctottesting.wpengine.com
GEO:30.2797027;-97.8080745
X-APPLE-STRUCTURED-LOCATION;VALUE=URI;X-ADDRESS=Capital Title Westlake 3801 Bee Caves Road Suite 110 Austin TX 78746 United States;X-APPLE-RADIUS=500;X-TITLE=3801 Bee Caves Road\, Suite 110:geo:-97.8080745,30.2797027
END:VEVENT
END:VCALENDAR