BEGIN:VCALENDAR
VERSION:2.0
PRODID:-//Capital Title of Texas, LLC. - ECPv6.15.20//NONSGML v1.0//EN
CALSCALE:GREGORIAN
METHOD:PUBLISH
X-WR-CALNAME:Capital Title of Texas, LLC.
X-ORIGINAL-URL:https://ctot.com
X-WR-CALDESC:Events for Capital Title of Texas, LLC.
REFRESH-INTERVAL;VALUE=DURATION:PT1H
X-Robots-Tag:noindex
X-PUBLISHED-TTL:PT1H
BEGIN:VTIMEZONE
TZID:America/Chicago
BEGIN:DAYLIGHT
TZOFFSETFROM:-0600
TZOFFSETTO:-0500
TZNAME:CDT
DTSTART:20250309T080000
END:DAYLIGHT
BEGIN:STANDARD
TZOFFSETFROM:-0500
TZOFFSETTO:-0600
TZNAME:CST
DTSTART:20251102T070000
END:STANDARD
BEGIN:DAYLIGHT
TZOFFSETFROM:-0600
TZOFFSETTO:-0500
TZNAME:CDT
DTSTART:20260308T080000
END:DAYLIGHT
BEGIN:STANDARD
TZOFFSETFROM:-0500
TZOFFSETTO:-0600
TZNAME:CST
DTSTART:20261101T070000
END:STANDARD
BEGIN:DAYLIGHT
TZOFFSETFROM:-0600
TZOFFSETTO:-0500
TZNAME:CDT
DTSTART:20270314T080000
END:DAYLIGHT
BEGIN:STANDARD
TZOFFSETFROM:-0500
TZOFFSETTO:-0600
TZNAME:CST
DTSTART:20271107T070000
END:STANDARD
END:VTIMEZONE
BEGIN:VEVENT
DTSTART;TZID=America/Chicago:20260121T100000
DTEND;TZID=America/Chicago:20260121T140000
DTSTAMP:20260423T203202
CREATED:20260109T203640Z
LAST-MODIFIED:20260109T203641Z
UID:28384-1768989600-1769004000@ctot.com
SUMMARY:TREC LEGAL UPDATES PART 1
DESCRIPTION:Join us!\nTEXAS REALTORS\npresents\nTREC LEGAL UPDATES – PART 1\nWEDNESDAY\, JANUARY 21ST\, 10:00 AM TO 2:00 PM\nSee course flyer for full details\n \n  \nHAVE QUESTIONS? \nMARTY WILLS MWILLS@CTOT.COM | 254-717-4810\nMELISSA LEON MLEON@CTOT.COM | 817-301-4311\n  \n  \n  \n 
URL:https://ctot.com/event/trec-legal-updates-part-1-8/
LOCATION:Capital Title of Texas – Colleyville\, 1105 Glade Road\, Colleyville\, TX\, 76034\, United States
CATEGORIES:All Regions,Dallas Ft. Worth
ATTACH;FMTTYPE=image/jpeg:https://ctot.com/wp-content/uploads/2026/01/legal-1-facebook.jpg
ORGANIZER;CN="Judy Kilpatrick":MAILTO:jkilpatrick@ctottesting.wpengine.com
END:VEVENT
BEGIN:VEVENT
DTSTART;TZID=America/Chicago:20260121T130000
DTEND;TZID=America/Chicago:20260121T150000
DTSTAMP:20260423T203202
CREATED:20260109T201934Z
LAST-MODIFIED:20260109T201935Z
UID:28376-1769000400-1769007600@ctot.com
SUMMARY:PHASED INSPECTIONS & TANKLESS WATER HEATERS
DESCRIPTION:Join us!\nELITE INSPECTION GROUP\npresents\nPHASED INSPECTIONS & TANKLESS WATER HEATERS\nWEDNESDAY\, JANUARY 21ST\, 1:00 PM TO 3:00 PM\nSee course flyer for full details\n \n  \nHAVE QUESTIONS? \nMARTY WILLS MWILLS@CTOT.COM | 254-717-4810\nMELISSA LEON MLEON@CTOT.COM | 817-301-4311\n  \n  \n  \n 
URL:https://ctot.com/event/phased-inspections-tankless-water-heaters/
LOCATION:SHADDOCK HOMES MODEL\, 6213 WHITEBRUSH PLACE\, FORT WORTH\, 76123\, United States
CATEGORIES:All Regions,Dallas Ft. Worth
ATTACH;FMTTYPE=image/jpeg:https://ctot.com/wp-content/uploads/2026/01/Inspections-Water-Heaters-01.21.26.jpg
ORGANIZER;CN="Marty Wills":MAILTO:mwills@ctot.com
END:VEVENT
END:VCALENDAR