BEGIN:VCALENDAR
VERSION:2.0
PRODID:-//Capital Title of Texas, LLC. - ECPv6.15.20//NONSGML v1.0//EN
CALSCALE:GREGORIAN
METHOD:PUBLISH
X-WR-CALNAME:Capital Title of Texas, LLC.
X-ORIGINAL-URL:https://ctot.com
X-WR-CALDESC:Events for Capital Title of Texas, LLC.
REFRESH-INTERVAL;VALUE=DURATION:PT1H
X-Robots-Tag:noindex
X-PUBLISHED-TTL:PT1H
BEGIN:VTIMEZONE
TZID:America/Chicago
BEGIN:DAYLIGHT
TZOFFSETFROM:-0600
TZOFFSETTO:-0500
TZNAME:CDT
DTSTART:20220313T080000
END:DAYLIGHT
BEGIN:STANDARD
TZOFFSETFROM:-0500
TZOFFSETTO:-0600
TZNAME:CST
DTSTART:20221106T070000
END:STANDARD
BEGIN:DAYLIGHT
TZOFFSETFROM:-0600
TZOFFSETTO:-0500
TZNAME:CDT
DTSTART:20230312T080000
END:DAYLIGHT
BEGIN:STANDARD
TZOFFSETFROM:-0500
TZOFFSETTO:-0600
TZNAME:CST
DTSTART:20231105T070000
END:STANDARD
BEGIN:DAYLIGHT
TZOFFSETFROM:-0600
TZOFFSETTO:-0500
TZNAME:CDT
DTSTART:20240310T080000
END:DAYLIGHT
BEGIN:STANDARD
TZOFFSETFROM:-0500
TZOFFSETTO:-0600
TZNAME:CST
DTSTART:20241103T070000
END:STANDARD
END:VTIMEZONE
BEGIN:VEVENT
DTSTART;TZID=America/Chicago:20230406T093000
DTEND;TZID=America/Chicago:20230406T133000
DTSTAMP:20260423T153108
CREATED:20230328T195606Z
LAST-MODIFIED:20230328T195726Z
UID:21309-1680773400-1680787800@ctot.com
SUMMARY:Online CE – TREC Legal Updates – Part 2
DESCRIPTION:Join us online for\nTREC Legal Updates – Part 2\nCourse content mandated by TREC. Ethics/ Fair Housing/Agency Law\nSee image for full course details.\nClick HERE to REGISTER\nReach out to your Capital Title Partner with any questions.
URL:https://ctot.com/event/online-ce-trec-legal-updates-part-2-3/
CATEGORIES:All Regions,Austin,Central Texas,Coastal Bend,Dallas Ft. Worth,Golden Triangle,Houston,Northeast Texas,Rio Grande Valley,San Antonio
ATTACH;FMTTYPE=image/png:https://ctot.com/wp-content/uploads/2023/03/CTOT_TRECLU2-APR6.png
ORGANIZER;CN="Tiffany Hanzik McAllister":MAILTO:thanzik@ctot.com
END:VEVENT
BEGIN:VEVENT
DTSTART;TZID=America/Chicago:20230406T093000
DTEND;TZID=America/Chicago:20230406T133000
DTSTAMP:20260423T153108
CREATED:20230328T195606Z
LAST-MODIFIED:20230328T195606Z
UID:25207-1680773400-1680787800@ctot.com
SUMMARY:Online CE – TREC Legal Updates – Part 2
DESCRIPTION:Join us online for\nTREC Legal Updates – Part 2\nCourse content mandated by TREC. Ethics/ Fair Housing/Agency Law\nSee image for full course details.\nClick HERE to REGISTER\nReach out to your Capital Title Partner with any questions.
URL:https://ctot.com/event/online-ce-trec-legal-updates-part-2-3-2/
CATEGORIES:All Regions,Austin,Central Texas,Coastal Bend,Dallas Ft. Worth,Golden Triangle,Houston,Northeast Texas,Rio Grande Valley,San Antonio
ATTACH;FMTTYPE=image/png:https://ctot.com/wp-content/uploads/2023/03/CTOT_TRECLU2-APR6.png
ORGANIZER;CN="Tiffany Hanzik McAllister":MAILTO:thanzik@ctot.com
END:VEVENT
BEGIN:VEVENT
DTSTART;TZID=America/Chicago:20230406T130000
DTEND;TZID=America/Chicago:20230406T170000
DTSTAMP:20260423T153108
CREATED:20230323T144016Z
LAST-MODIFIED:20230323T144125Z
UID:21090-1680786000-1680800400@ctot.com
SUMMARY:CE Course-Legal Update 1
DESCRIPTION:CE Course Legal Update 1\nThursday\, April 6\n1pm-5pm\nProvider #001\nTEXAS REALTOR\nInstructor: Stephen Etzel\nCourse #42039\n4 CE Hours\n$35 due at registration\nTo register for this Session click HERE\nDid you know that as a license holder you have legal requirements and regulations for engaging in the real estate business? Perhaps you also belong to a trade association connected to the real estate business that has a code of conduct and you see that as a requirement for engaging in the business. There is more to your requirements than a trade associa­tion expectations. It is every license holder’s responsibility to know and operate under the current laws applicable to their license. The course covers the requirements Texas law places upon all license holders regard­ing ethical conduct when facilitating a real estate transaction
URL:https://ctot.com/event/ce-course-legal-update-1-7/
LOCATION:Fireside Pies\, 1285 S. Main St.\, Grapevine\, TX\, 76051\, United States
CATEGORIES:All Regions,Dallas Ft. Worth,San Antonio
ATTACH;FMTTYPE=image/png:https://ctot.com/wp-content/uploads/2023/03/Legal-1-4.6.23.png
END:VEVENT
BEGIN:VEVENT
DTSTART;TZID=America/Chicago:20230406T130000
DTEND;TZID=America/Chicago:20230406T170000
DTSTAMP:20260423T153108
CREATED:20230323T144016Z
LAST-MODIFIED:20230323T144016Z
UID:25202-1680786000-1680800400@ctot.com
SUMMARY:CE Course-Legal Update 1
DESCRIPTION:CE Course Legal Update 1\nThursday\, April 6\n1pm-5pm\nProvider #001\nTEXAS REALTOR\nInstructor: Stephen Etzel\nCourse #42039\n4 CE Hours\n$35 due at registration\nTo register for this Session click HERE\nDid you know that as a license holder you have legal requirements and regulations for engaging in the real estate business? Perhaps you also belong to a trade association connected to the real estate business that has a code of conduct and you see that as a requirement for engaging in the business. There is more to your requirements than a trade associa­tion expectations. It is every license holder’s responsibility to know and operate under the current laws applicable to their license. The course covers the requirements Texas law places upon all license holders regard­ing ethical conduct when facilitating a real estate transaction
URL:https://ctot.com/event/ce-course-legal-update-1-7-2/
LOCATION:Fireside Pies\, 1285 S. Main St.\, Grapevine\, TX\, 76051\, United States
CATEGORIES:All Regions,Dallas Ft. Worth,San Antonio
ATTACH;FMTTYPE=image/png:https://ctot.com/wp-content/uploads/2023/03/Legal-1-4.6.23.png
END:VEVENT
END:VCALENDAR