BEGIN:VCALENDAR
VERSION:2.0
PRODID:-//Capital Title of Texas, LLC. - ECPv6.15.20//NONSGML v1.0//EN
CALSCALE:GREGORIAN
METHOD:PUBLISH
X-ORIGINAL-URL:https://ctot.com
X-WR-CALDESC:Events for Capital Title of Texas, LLC.
REFRESH-INTERVAL;VALUE=DURATION:PT1H
X-Robots-Tag:noindex
X-PUBLISHED-TTL:PT1H
BEGIN:VTIMEZONE
TZID:America/Chicago
BEGIN:DAYLIGHT
TZOFFSETFROM:-0600
TZOFFSETTO:-0500
TZNAME:CDT
DTSTART:20230312T080000
END:DAYLIGHT
BEGIN:STANDARD
TZOFFSETFROM:-0500
TZOFFSETTO:-0600
TZNAME:CST
DTSTART:20231105T070000
END:STANDARD
BEGIN:DAYLIGHT
TZOFFSETFROM:-0600
TZOFFSETTO:-0500
TZNAME:CDT
DTSTART:20240310T080000
END:DAYLIGHT
BEGIN:STANDARD
TZOFFSETFROM:-0500
TZOFFSETTO:-0600
TZNAME:CST
DTSTART:20241103T070000
END:STANDARD
BEGIN:DAYLIGHT
TZOFFSETFROM:-0600
TZOFFSETTO:-0500
TZNAME:CDT
DTSTART:20250309T080000
END:DAYLIGHT
BEGIN:STANDARD
TZOFFSETFROM:-0500
TZOFFSETTO:-0600
TZNAME:CST
DTSTART:20251102T070000
END:STANDARD
END:VTIMEZONE
BEGIN:VEVENT
DTSTART;TZID=America/Chicago:20241104T130000
DTEND;TZID=America/Chicago:20241104T150000
DTSTAMP:20260422T152052
CREATED:20240912T174011Z
LAST-MODIFIED:20240912T174011Z
UID:24047-1730725200-1730732400@ctot.com
SUMMARY:Online CE: Contract to Close
DESCRIPTION:Contract to Close\nA complete understanding of the Escrow Process from Contract to Close. This course will show you how to read a Title Commitment\, Tax Certificate\, Survey\, Closing Disclosure statement and much more.\nREGISTER HERE OR CLICK THE IMAGE BELOW\n\n\n\n\nCOURSE#44978 | CREDIT HOURS: 2 | COST: $20 \nPayment link: https://square.link/u/niCa0zTW
URL:https://ctot.com/event/online-ce-contract-to-close-2/
LOCATION:Online Only
CATEGORIES:All Regions,Austin,Central Texas,Coastal Bend,Dallas Ft. Worth,Golden Triangle,Houston,Northeast Texas,Rio Grande Valley,San Antonio
ATTACH;FMTTYPE=image/png:https://ctot.com/wp-content/uploads/2024/09/44978-Contract-to-Close-11_4.png
ORGANIZER;CN="Tiffany Hanzik McAllister":MAILTO:thanzik@ctot.com
END:VEVENT
BEGIN:VEVENT
DTSTART;TZID=America/Chicago:20241105T120000
DTEND;TZID=America/Chicago:20241105T153000
DTSTAMP:20260422T152052
CREATED:20241031T125637Z
LAST-MODIFIED:20241031T125637Z
UID:25374-1730808000-1730820600@ctot.com
SUMMARY:Realtor Safety & Shooting
DESCRIPTION:Join us for\nREALTOR SAFETY & SHOOTING\nNon-CE Course\nCOST: RANGE FEE $25\, AMMO $19\nTuesday\, November 5th\nREGISTER HERE: https://form.jotform.com/242945471651057 \nRSVP to: \nMelissa Leon mleon@ctot.com  or Amy Clark amy.clark@ctot.com
URL:https://ctot.com/event/realtor-safety-shooting-3/
LOCATION:Capital Title of Texas – Southlake\, 1150 N Carroll Ave.\, Southlake\, TX 76092\, 1150 N Carroll Ave.\, Southlake\, TX\, 76092\, United States
CATEGORIES:All Regions,Dallas Ft. Worth
ATTACH;FMTTYPE=image/jpeg:https://ctot.com/wp-content/uploads/2024/10/IMG_8277.jpeg
ORGANIZER;CN="Melissa Leon":MAILTO:mleon@ctottesting.wpengine.com
END:VEVENT
BEGIN:VEVENT
DTSTART;TZID=America/Chicago:20241107T100000
DTEND;TZID=America/Chicago:20241107T120000
DTSTAMP:20260422T152052
CREATED:20241031T131807Z
LAST-MODIFIED:20241031T131807Z
UID:25376-1730973600-1730980800@ctot.com
SUMMARY:Avoiding Contract Pitfalls
DESCRIPTION:Join us for\nAVOIDING CONTRACT PITFALLS\n2 Hr. CE Course\, $20 – Provider 0001\, Course 48184\nThursday\, November 7th
URL:https://ctot.com/event/avoiding-contract-pitfalls-2/
LOCATION:Keller Chamber of Commerce\, 420 Johnson Road\, Keller\, 76248\, United States
CATEGORIES:All Regions,Dallas Ft. Worth
ATTACH;FMTTYPE=image/jpeg:https://ctot.com/wp-content/uploads/2024/10/IMG_8269.jpeg
ORGANIZER;CN="Melissa Leon":MAILTO:mleon@ctottesting.wpengine.com
END:VEVENT
BEGIN:VEVENT
DTSTART;TZID=America/Chicago:20241112T120000
DTEND;TZID=America/Chicago:20241112T153000
DTSTAMP:20260422T152052
CREATED:20241031T131005Z
LAST-MODIFIED:20241031T131005Z
UID:25375-1731412800-1731425400@ctot.com
SUMMARY:Realtor Safety & Shooting
DESCRIPTION:Join us for\nREALTOR SAFETY & SHOOTING\nNon-CE Course\nCOST: RANGE FEE $25\, AMMO $19\nTuesday\, November 12th\nREGISTER HERE: https://form.jotform.com/242945471651057 \nRSVP to: \nMelissa Leon mleon@ctot.com
URL:https://ctot.com/event/realtor-safety-shooting-2-2/
LOCATION:Capital Title of Texas – 601 S Main\, Ste. 601\, 601 S Main\, Ste. 601\, Fort Worth\, TX\, 76104\, United States
CATEGORIES:All Regions,Dallas Ft. Worth
ATTACH;FMTTYPE=image/jpeg:https://ctot.com/wp-content/uploads/2024/10/IMG_8276.jpeg
ORGANIZER;CN="Melissa Leon":MAILTO:mleon@ctottesting.wpengine.com
END:VEVENT
BEGIN:VEVENT
DTSTART;TZID=America/Chicago:20241113T093000
DTEND;TZID=America/Chicago:20241113T110000
DTSTAMP:20260422T152052
CREATED:20241031T132343Z
LAST-MODIFIED:20241031T132343Z
UID:25377-1731490200-1731495600@ctot.com
SUMMARY:Donuts & Dough
DESCRIPTION:Join us for\nDONUTS & DOUGH\nNON-CE\nWednesday\, November 13th\nRSVP: MELISSA LEON\, MLEON@CTOT.COM
URL:https://ctot.com/event/donuts-dough-2/
LOCATION:Capital Title of Texas – 601 S Main\, Ste. 601\, 601 S Main\, Ste. 601\, Fort Worth\, TX\, 76104\, United States
CATEGORIES:All Regions,Dallas Ft. Worth
ATTACH;FMTTYPE=image/jpeg:https://ctot.com/wp-content/uploads/2024/10/IMG_8237.jpeg
ORGANIZER;CN="Melissa Leon":MAILTO:mleon@ctottesting.wpengine.com
END:VEVENT
BEGIN:VEVENT
DTSTART;TZID=America/Chicago:20241113T100000
DTEND;TZID=America/Chicago:20241113T130000
DTSTAMP:20260422T152052
CREATED:20241028T174932Z
LAST-MODIFIED:20241104T211440Z
UID:24309-1731492000-1731502800@ctot.com
SUMMARY:CE Course-How to Survive a Real Estate Auction
DESCRIPTION:How to Survive a Real Estate Auction CE Class\n Wednesday | November 13\, 2024\n\n10 am-1 pm \nTo register email Judy Kilpatrick at jkilpatrick@ctottesting.wpengine.com \n \n 
URL:https://ctot.com/event/ce-course-how-to-survive-a-real-estate-auction/
CATEGORIES:All Regions,Dallas Ft. Worth
ATTACH;FMTTYPE=image/jpeg:https://ctot.com/wp-content/uploads/2024/10/Judy-K-Class-Myers-Jackson.jpg
END:VEVENT
BEGIN:VEVENT
DTSTART;TZID=America/Chicago:20241114T133000
DTEND;TZID=America/Chicago:20241114T163000
DTSTAMP:20260422T152052
CREATED:20241104T174757Z
LAST-MODIFIED:20241104T174757Z
UID:25378-1731591000-1731601800@ctot.com
SUMMARY:CE Course The NAR Code of Ethics
DESCRIPTION:The NAR Code of Ethics\nTo register for this Session click HERE
URL:https://ctot.com/event/ce-course-the-nar-code-of-ethics-11-2/
CATEGORIES:All Regions,Dallas Ft. Worth
ATTACH;FMTTYPE=image/png:https://ctot.com/wp-content/uploads/2024/11/Ethics-Steve-Etzel-11.14.24-1.png
END:VEVENT
BEGIN:VEVENT
DTSTART;TZID=America/Chicago:20241118T100000
DTEND;TZID=America/Chicago:20241118T110000
DTSTAMP:20260422T152052
CREATED:20241105T160325Z
LAST-MODIFIED:20241105T160325Z
UID:24332-1731924000-1731927600@ctot.com
SUMMARY:Digital Farming: Growing Your Database
DESCRIPTION:Join us for\nDIGITAL FARMING: Growing Your Database\n1 Hr. CE Course\, $10 – Provider 9847\, Course 46621\nMonday\, November 18th
URL:https://ctot.com/event/digital-farming-growing-your-database-3/
LOCATION:Sunny Street Cafe\, 229 Shops Blvd.\, Ste. 103\, Willow Park\, 76087\, United States
CATEGORIES:All Regions,Dallas Ft. Worth
ATTACH;FMTTYPE=image/png:https://ctot.com/wp-content/uploads/2024/11/digital-farming-growing-your-database-3.png
ORGANIZER;CN="Sparkles Belt":MAILTO:sbelt@ctottesting.wpengine.com
END:VEVENT
BEGIN:VEVENT
DTSTART;TZID=America/Chicago:20241118T130000
DTEND;TZID=America/Chicago:20241118T140000
DTSTAMP:20260422T152052
CREATED:20240912T174256Z
LAST-MODIFIED:20241004T195713Z
UID:24048-1731934800-1731938400@ctot.com
SUMMARY:Online CE: Oh No! The Property is in a Trust
DESCRIPTION:Oh No! The Property is in a Trust\nDetails the mechanics of property held in a trust.\nREGISTER HERE OR CLICK THE IMAGE BELOW\n\n\n\n\nCOURSE#47091 | CREDIT HOURS: 1 | COST: $10 \nPayment link: https://square.link/u/Iu68WTSF
URL:https://ctot.com/event/online-ce-oh-no-the-property-is-in-a-trust/
LOCATION:Online Only
CATEGORIES:All Regions,Austin,Central Texas,Coastal Bend,Dallas Ft. Worth,Golden Triangle,Houston,Northeast Texas,Rio Grande Valley,San Antonio
ATTACH;FMTTYPE=image/png:https://ctot.com/wp-content/uploads/2024/09/47091-Oh-No-The-Property-is-in-a-Trust-11_18.png
ORGANIZER;CN="Tiffany Hanzik McAllister":MAILTO:thanzik@ctot.com
END:VEVENT
BEGIN:VEVENT
DTSTART;TZID=America/Chicago:20241121T140000
DTEND;TZID=America/Chicago:20241121T170000
DTSTAMP:20260422T152052
CREATED:20240822T170136Z
LAST-MODIFIED:20240925T191420Z
UID:24011-1732197600-1732208400@ctot.com
SUMMARY:CE Course- Commercial Sales Contract 101
DESCRIPTION:Commercial Sales Contract 101\n Thursday | November 21\, 2024\n\n2 pm-5 pm \nTo register for this Session click HERE \n \n 
URL:https://ctot.com/event/ce-course-commercial-sales-contract-101/
LOCATION:Capital Title Southlake and Zoom\, 1150 N. Carroll Ave.\, Southlake\, TX\, 76092\, United States
CATEGORIES:All Regions,Dallas Ft. Worth
ATTACH;FMTTYPE=image/png:https://ctot.com/wp-content/uploads/2024/08/Commercial-Contracts-11.21.24-2.png
END:VEVENT
BEGIN:VEVENT
DTSTART;TZID=America/Chicago:20241126T100000
DTEND;TZID=America/Chicago:20241126T120000
DTSTAMP:20260422T152052
CREATED:20241125T181326Z
LAST-MODIFIED:20241125T181326Z
UID:25384-1732615200-1732622400@ctot.com
SUMMARY:Title Jeopardy In Person CE Class
DESCRIPTION:Join us at the McKinney Capital Title Office for \nTitle Jeopardy\nInstructed by Kelly Howard\, S. VP Escrow Officer \nCE Course No. 49307 | Provider No. 9847 | $20 Fee for 2 HR CE Credit \nTuesday\, November 26th at 10:00 AM – 12:00 PM \n*see image for full course details* \n \nRSVP to KAZagurski@ctot.com to reserve a seat!
URL:https://ctot.com/event/title-jeopardy-in-person-ce-class-3/
LOCATION:Capital Title – McKinney Stonebridge Ranch\, 6051 Virginia Parkway Suite 200\, McKinney\, TX\, 75061\, United States
CATEGORIES:All Regions,Dallas Ft. Worth
ATTACH;FMTTYPE=image/png:https://ctot.com/wp-content/uploads/2024/11/CTOT-CE-Title-Jeopardy-KHoward-KAZagurski-112624.png
ORGANIZER;CN="Kelly Ann Zagurski":MAILTO:KAZagurski@ctottesting.wpengine.com
END:VEVENT
BEGIN:VEVENT
DTSTART;TZID=America/Chicago:20241126T133000
DTEND;TZID=America/Chicago:20241126T143000
DTSTAMP:20260422T152052
CREATED:20241125T201005Z
LAST-MODIFIED:20241125T201005Z
UID:25385-1732627800-1732631400@ctot.com
SUMMARY:Title Jeopardy In Person CE Class
DESCRIPTION:Join us at the McKinney Capital Title Office for \nTop 20 Marketing Ideas\nInstructed by Kelly Howard\, S. VP Escrow Officer \nCE Course No. 46631 | Provider No. 9847 | $10 Fee for 1 HR CE Credit \nTuesday\, November 26th at 1:30 PM – 2:30 PM \n*see image for full course details* \nRSVP to KAZagurski@ctot.com to reserve a seat!
URL:https://ctot.com/event/title-jeopardy-in-person-ce-class-2-2/
LOCATION:Capital Title – McKinney Stonebridge Ranch\, 6051 Virginia Parkway Suite 200\, McKinney\, TX\, 75061\, United States
CATEGORIES:All Regions,Dallas Ft. Worth
ATTACH;FMTTYPE=image/jpeg:https://ctot.com/wp-content/uploads/2024/11/CTOT-CE-Top-20-Marketing-Ideas-KHoward-KAZagurski-112624-scaled.jpg
ORGANIZER;CN="Kelly Ann Zagurski":MAILTO:KAZagurski@ctottesting.wpengine.com
END:VEVENT
BEGIN:VEVENT
DTSTART;TZID=America/Chicago:20241127T100000
DTEND;TZID=America/Chicago:20241127T120000
DTSTAMP:20260422T152052
CREATED:20241125T180828Z
LAST-MODIFIED:20241125T180828Z
UID:25383-1732701600-1732708800@ctot.com
SUMMARY:Closing Pitfalls In Person CE Class
DESCRIPTION:Join us at the McKinney Capital Title Office for\nClosing Pitfalls\nInstructed by Kelly Howard\, S. VP Escrow Officer \nCE Course No. 44984 | Provider No. 9847 | $20 Fee for 2 HR CE Credit \nWednesday\, November 27th at 10:00 AM – 12:00 PM \n*see image for full course details* \n \nRSVP to KAZagurski@ctot.com to reserve a seat!
URL:https://ctot.com/event/closing-pitfalls-in-person-ce-class-2/
LOCATION:Capital Title – McKinney Stonebridge Ranch\, 6051 Virginia Parkway Suite 200\, McKinney\, TX\, 75061\, United States
CATEGORIES:All Regions,Dallas Ft. Worth
ATTACH;FMTTYPE=image/png:https://ctot.com/wp-content/uploads/2024/11/CTOT-CE-Closing-Pitfalls-KAZagurski-KHoward-112724.png
ORGANIZER;CN="Kelly Ann Zagurski":MAILTO:KAZagurski@ctottesting.wpengine.com
END:VEVENT
END:VCALENDAR