BEGIN:VCALENDAR
VERSION:2.0
PRODID:-//Capital Title of Texas, LLC. - ECPv6.15.20//NONSGML v1.0//EN
CALSCALE:GREGORIAN
METHOD:PUBLISH
X-ORIGINAL-URL:https://ctot.com
X-WR-CALDESC:Events for Capital Title of Texas, LLC.
REFRESH-INTERVAL;VALUE=DURATION:PT1H
X-Robots-Tag:noindex
X-PUBLISHED-TTL:PT1H
BEGIN:VTIMEZONE
TZID:America/Chicago
BEGIN:DAYLIGHT
TZOFFSETFROM:-0600
TZOFFSETTO:-0500
TZNAME:CDT
DTSTART:20240310T080000
END:DAYLIGHT
BEGIN:STANDARD
TZOFFSETFROM:-0500
TZOFFSETTO:-0600
TZNAME:CST
DTSTART:20241103T070000
END:STANDARD
BEGIN:DAYLIGHT
TZOFFSETFROM:-0600
TZOFFSETTO:-0500
TZNAME:CDT
DTSTART:20250309T080000
END:DAYLIGHT
BEGIN:STANDARD
TZOFFSETFROM:-0500
TZOFFSETTO:-0600
TZNAME:CST
DTSTART:20251102T070000
END:STANDARD
BEGIN:DAYLIGHT
TZOFFSETFROM:-0600
TZOFFSETTO:-0500
TZNAME:CDT
DTSTART:20260308T080000
END:DAYLIGHT
BEGIN:STANDARD
TZOFFSETFROM:-0500
TZOFFSETTO:-0600
TZNAME:CST
DTSTART:20261101T070000
END:STANDARD
END:VTIMEZONE
BEGIN:VEVENT
DTSTART;TZID=America/Chicago:20250305T090000
DTEND;TZID=America/Chicago:20250305T130000
DTSTAMP:20260422T135110
CREATED:20250131T224936Z
LAST-MODIFIED:20250131T224936Z
UID:25405-1741165200-1741179600@ctot.com
SUMMARY:TREC LEGAL UPDATES PART 2
DESCRIPTION:Join us for\nTREC LEGAL UPDATES – PART 2\n4 Hr. CE Course | PROVIDER 0001 | COURSE 47601\nWednesday\, March 5th – 9:00 am to 1:00 pm\nRegister today at https://form.jotform.com/250096358984167\n 
URL:https://ctot.com/event/trec-legal-updates-part-2-2-2/
LOCATION:Keller Chamber of Commerce\, 420 Johnson Road\, Keller\, 76248\, United States
CATEGORIES:All Regions,Dallas Ft. Worth
ATTACH;FMTTYPE=image/jpeg:https://ctot.com/wp-content/uploads/2025/01/Legal-2-3.5.25.jpg
ORGANIZER;CN="Melissa Leon":MAILTO:mleon@ctottesting.wpengine.com
END:VEVENT
BEGIN:VEVENT
DTSTART;TZID=America/Chicago:20250310T120000
DTEND;TZID=America/Chicago:20250310T160000
DTSTAMP:20260422T135110
CREATED:20250205T162945Z
LAST-MODIFIED:20250306T001956Z
UID:25407-1741608000-1741622400@ctot.com
SUMMARY:[Online CE] TREC Legal Updates - Part 1 (Q125-310)
DESCRIPTION:TREC Legal Updates – Part 1\nCourse content mandated by TREC. Statutory Changes/Rules/ Forms.\nCOURSE#47600 | CREDIT HOURS: 4 | COST: $40\nREGISTER HERE OR CLICK THE IMAGE BELOW\nPayment Link: https://square.link/u/duFmmeNo \n \n  \n  \n 
URL:https://ctot.com/event/online-ce-trec-legal-updates-part-1-q125-2/
LOCATION:Online Only
CATEGORIES:All Regions,Austin,Central Texas,Coastal Bend,Dallas Ft. Worth,Golden Triangle,Houston,Northeast Texas,Rio Grande Valley,San Antonio
ATTACH;FMTTYPE=image/png:https://ctot.com/wp-content/uploads/2025/02/47600-TREC-Legal-Updates-Part-1-31025.png
ORGANIZER;CN="Tiffany Hanzik McAllister":MAILTO:thanzik@ctot.com
END:VEVENT
BEGIN:VEVENT
DTSTART;TZID=America/Chicago:20250311T100000
DTEND;TZID=America/Chicago:20250311T110000
DTSTAMP:20260422T135110
CREATED:20250206T141707Z
LAST-MODIFIED:20250206T141707Z
UID:24571-1741687200-1741690800@ctot.com
SUMMARY:What Do I Do Now? Wills\, Probates & Guardianships
DESCRIPTION:Join us for\nWHAT DO I DO NOW? Wills\, Probates & Guardianships\n1 Hr. CE Course | PROVIDER 9847 | COURSE 47527\nTuesday\, March 11th – 10:00 am to 11:00 am\nRSVP to Katrina Lane: klane@ctot | 469.698.0400\n \n  \n  \n 
URL:https://ctot.com/event/what-do-i-do-now-wills-probates-guardianships-2/
LOCATION:Joan Scribner
CATEGORIES:All Regions,Dallas Ft. Worth
ATTACH;FMTTYPE=image/jpeg:https://ctot.com/wp-content/uploads/2025/02/Copy-of-CTOT-What-Do-I-Do-Now-ELange-KLane-020425-4.jpg
END:VEVENT
BEGIN:VEVENT
DTSTART;TZID=America/Chicago:20250311T100000
DTEND;TZID=America/Chicago:20250311T110000
DTSTAMP:20260422T135110
CREATED:20250228T225023Z
LAST-MODIFIED:20250228T225023Z
UID:24587-1741687200-1741690800@ctot.com
SUMMARY:APPY Hour-MLS Touch
DESCRIPTION:APPY Hour-MLS Touch\n*see image for full course details* \nClick here to register
URL:https://ctot.com/event/appy-hour-mls-touch/
LOCATION:Capital Title Southlake\, 1150 N. Carroll Ave.\, Southlake\, TX\, 76092\, United States
CATEGORIES:All Regions,Dallas Ft. Worth
ATTACH;FMTTYPE=image/png:https://ctot.com/wp-content/uploads/2025/02/Appy-Hour-3.11.25.png
END:VEVENT
BEGIN:VEVENT
DTSTART;TZID=America/Chicago:20250311T110000
DTEND;TZID=America/Chicago:20250311T130000
DTSTAMP:20260422T135110
CREATED:20250205T191718Z
LAST-MODIFIED:20250205T191718Z
UID:25418-1741690800-1741698000@ctot.com
SUMMARY:THE INVESTOR AGENT PART 2
DESCRIPTION:Join us for\nTHE INVESTOR AGENT\n2 HR CE | COURSES 49801 & 48750 | PROVIDER 10421 | $20 PER PERSON\n\nREGISTRATION: https://form.jotform.com/243446174258158\nPAYMENT LINK: https://www.paypal.com/ncp/payment/5N56FTUSMV96C\nSee the flyer for full course details
URL:https://ctot.com/event/the-investor-agent-part-2/
LOCATION:Garrett Funk
CATEGORIES:All Regions,Dallas Ft. Worth
ATTACH;FMTTYPE=image/jpeg:https://ctot.com/wp-content/uploads/2025/02/Flyer-2-Part-Investor-Series-scaled-1.jpg
ORGANIZER;CN="Melissa Leon":MAILTO:mleon@ctottesting.wpengine.com
END:VEVENT
BEGIN:VEVENT
DTSTART;TZID=America/Chicago:20250320T130000
DTEND;TZID=America/Chicago:20250320T150000
DTSTAMP:20260422T135110
CREATED:20250313T182244Z
LAST-MODIFIED:20250313T182244Z
UID:26135-1742475600-1742482800@ctot.com
SUMMARY:CE: 45 Combined Outs in the 1-4 family contract and addenda. What?
DESCRIPTION:Join us for\n\n45 Combined Outs in the 1-4 family contract and addenda. What?\nSee image for full course details.\nClick HERE to REGISTER\nReach out to your Capital Title Partner with any questions.\n \n 
URL:https://ctot.com/event/ce-45-combined-outs-in-the-1-4-family-contract-and-addenda-what-3/
LOCATION:Capital Title Southlake and Zoom\, 1150 N. Carroll Ave.\, Southlake\, TX\, 76092\, United States
CATEGORIES:All Regions,Dallas Ft. Worth
ATTACH;FMTTYPE=image/png:https://ctot.com/wp-content/uploads/2025/03/45-Combined-Outs-3.20.25.png
END:VEVENT
BEGIN:VEVENT
DTSTART;TZID=America/Chicago:20250324T120000
DTEND;TZID=America/Chicago:20250324T160000
DTSTAMP:20260422T135110
CREATED:20250205T163629Z
LAST-MODIFIED:20250319T212440Z
UID:25408-1742817600-1742832000@ctot.com
SUMMARY:[Online CE] TREC Legal Updates - Part 2 (Q125)
DESCRIPTION:TREC Legal Updates – Part 2\nCourse content mandated by TREC. Ethics/ Fair Housing /Agency Law.\nCOURSE#47601 | CREDIT HOURS: 4 | COST: $40\nREGISTER HERE OR CLICK THE IMAGE BELOW\nPayment Link: https://square.link/u/JpRGnYow \n \n 
URL:https://ctot.com/event/online-ce-trec-legal-updates-part-2-q125-2/
LOCATION:Online Only
CATEGORIES:All Regions,Austin,Central Texas,Coastal Bend,Dallas Ft. Worth,Golden Triangle,Houston,Northeast Texas,Rio Grande Valley,San Antonio
ATTACH;FMTTYPE=image/png:https://ctot.com/wp-content/uploads/2024/12/Q1-6-TREC-Legal-Updates-Part-2-32425.png
ORGANIZER;CN="Tiffany Hanzik McAllister":MAILTO:thanzik@ctot.com
END:VEVENT
END:VCALENDAR